BEGIN:VCALENDAR
VERSION:2.0
PRODID:-//StreamRadar//Match Calendar//EN
CALSCALE:GREGORIAN
METHOD:PUBLISH
X-WR-CALNAME:Brabrand vs FC Helsingør
X-WR-TIMEZONE:America/New_York
BEGIN:VEVENT
UID:match-5612717@streamradar.soccer
SUMMARY:Brabrand vs FC Helsingør
DTSTAMP:20260421T050745Z
DTSTART;TZID=America/New_York:20260502T080000
DTEND;TZID=America/New_York:20260502T100000
DESCRIPTION:Dove vedere Brabrand vs FC Helsingør in Danimarca - 1. divisio
 n danese. Streaming live e programmazione TV.\nhttps://streamradar.soccer/i
 t/match/5612717/brabrand-vs-fc-helsingor/
URL;VALUE=URI:https://streamradar.soccer/it/match/5612717/brabrand-vs-fc-he
 lsingor/
STATUS:CONFIRMED
END:VEVENT
END:VCALENDAR
