BEGIN:VCALENDAR
VERSION:2.0
PRODID:-//StreamRadar//Match Calendar//EN
CALSCALE:GREGORIAN
METHOD:PUBLISH
X-WR-CALNAME:Chicken Inn vs Highlanders
X-WR-TIMEZONE:America/New_York
BEGIN:VEVENT
UID:match-5612241@streamradar.soccer
SUMMARY:Chicken Inn vs Highlanders
DTSTAMP:20260421T062050Z
DTSTART;TZID=America/New_York:20260422T090000
DTEND;TZID=America/New_York:20260422T110000
LOCATION:Luveve Stadium (Bulawayo)
DESCRIPTION:Dove vedere Chicken Inn vs Highlanders in Zimbabwe - Premier So
 ccer League. Streaming live e programmazione TV.\nhttps://streamradar.socce
 r/it/match/5612241/chicken-inn-vs-highlanders/
URL;VALUE=URI:https://streamradar.soccer/it/match/5612241/chicken-inn-vs-hi
 ghlanders/
STATUS:CONFIRMED
END:VEVENT
END:VCALENDAR
