BEGIN:VCALENDAR
VERSION:2.0
PRODID:-//StreamRadar//Match Calendar//EN
CALSCALE:GREGORIAN
METHOD:PUBLISH
X-WR-CALNAME:Chelyabinsk vs Neftekhimik
X-WR-TIMEZONE:America/New_York
BEGIN:VEVENT
UID:match-5612222@streamradar.soccer
SUMMARY:Chelyabinsk vs Neftekhimik
DTSTAMP:20260421T050457Z
DTSTART;TZID=America/New_York:20260502T080000
DTEND;TZID=America/New_York:20260502T100000
LOCATION:Central Stadium
DESCRIPTION:Dove vedere Chelyabinsk vs Neftekhimik in Russia - FNL. Streami
 ng live e programmazione TV.\nhttps://streamradar.soccer/it/match/5612222/c
 helyabinsk-vs-neftekhimik/
URL;VALUE=URI:https://streamradar.soccer/it/match/5612222/chelyabinsk-vs-ne
 ftekhimik/
STATUS:CONFIRMED
END:VEVENT
END:VCALENDAR
