BEGIN:VCALENDAR
VERSION:2.0
PRODID:-//StreamRadar//Match Calendar//EN
CALSCALE:GREGORIAN
METHOD:PUBLISH
X-WR-CALNAME:Bačka Topola vs Javor Ivanjica
X-WR-TIMEZONE:America/New_York
BEGIN:VEVENT
UID:match-5612211@streamradar.soccer
SUMMARY:Bačka Topola vs Javor Ivanjica
DTSTAMP:20260421T050457Z
DTSTART;TZID=America/New_York:20260509T130000
DTEND;TZID=America/New_York:20260509T150000
LOCATION:TSC Arena
DESCRIPTION:Dove vedere Bačka Topola vs Javor Ivanjica in Serbia - Super L
 iga. Streaming live e programmazione TV.\nhttps://streamradar.soccer/it/mat
 ch/5612211/backa-topola-vs-javor-ivanjica/
URL;VALUE=URI:https://streamradar.soccer/it/match/5612211/backa-topola-vs-j
 avor-ivanjica/
STATUS:CONFIRMED
END:VEVENT
END:VCALENDAR
