BEGIN:VCALENDAR
VERSION:2.0
PRODID:-//StreamRadar//Match Calendar//EN
CALSCALE:GREGORIAN
METHOD:PUBLISH
X-WR-CALNAME:Strogino vs Saturn Ramenskoye
X-WR-TIMEZONE:America/New_York
BEGIN:VEVENT
UID:match-5611582@streamradar.soccer
SUMMARY:Strogino vs Saturn Ramenskoye
DTSTAMP:20260421T092023Z
DTSTART;TZID=America/New_York:20260510T090000
DTEND;TZID=America/New_York:20260510T110000
DESCRIPTION:Dove vedere Strogino vs Saturn Ramenskoye in Russia - FNL 2. St
 reaming live e programmazione TV.\nhttps://streamradar.soccer/it/match/5611
 582/strogino-vs-saturn-ramenskoye/
URL;VALUE=URI:https://streamradar.soccer/it/match/5611582/strogino-vs-satur
 n-ramenskoye/
STATUS:CONFIRMED
END:VEVENT
END:VCALENDAR
