BEGIN:VCALENDAR
VERSION:2.0
PRODID:-//StreamRadar//Match Calendar//EN
CALSCALE:GREGORIAN
METHOD:PUBLISH
X-WR-CALNAME:Smederevo 1924 vs Borac Čačak
X-WR-TIMEZONE:America/New_York
BEGIN:VEVENT
UID:match-5611507@streamradar.soccer
SUMMARY:Smederevo 1924 vs Borac Čačak
DTSTAMP:20260421T080655Z
DTSTART;TZID=America/New_York:20260510T110000
DTEND;TZID=America/New_York:20260510T130000
LOCATION:Stadion FK Smederevo
DESCRIPTION:Dove vedere Smederevo 1924 vs Borac Čačak in Serbia - Superli
 ga serba. Streaming live e programmazione TV.\nhttps://streamradar.soccer/i
 t/match/5611507/smederevo-1924-vs-borac-cacak/
URL;VALUE=URI:https://streamradar.soccer/it/match/5611507/smederevo-1924-vs
 -borac-cacak/
STATUS:CONFIRMED
END:VEVENT
END:VCALENDAR
