BEGIN:VCALENDAR
VERSION:2.0
PRODID:-//StreamRadar//Match Calendar//EN
CALSCALE:GREGORIAN
METHOD:PUBLISH
X-WR-CALNAME:Sighetu Marmaţiei vs Unirea Dej
X-WR-TIMEZONE:America/New_York
BEGIN:VEVENT
UID:match-5610840@streamradar.soccer
SUMMARY:Sighetu Marmaţiei vs Unirea Dej
DTSTAMP:20260421T050815Z
DTSTART;TZID=America/New_York:20260509T110000
DTEND;TZID=America/New_York:20260509T130000
DESCRIPTION:Dove vedere Sighetu Marmaţiei vs Unirea Dej in Romania - Liga 
 III. Streaming live e programmazione TV.\nhttps://streamradar.soccer/it/mat
 ch/5610840/sighetu-marma-iei-vs-unirea-dej/
URL;VALUE=URI:https://streamradar.soccer/it/match/5610840/sighetu-marma-iei
 -vs-unirea-dej/
STATUS:CONFIRMED
END:VEVENT
END:VCALENDAR
