BEGIN:VCALENDAR
VERSION:2.0
PRODID:-//StreamRadar//Match Calendar//EN
CALSCALE:GREGORIAN
METHOD:PUBLISH
X-WR-CALNAME:Manauara vs GAS
X-WR-TIMEZONE:America/New_York
BEGIN:VEVENT
UID:match-5610724@streamradar.soccer
SUMMARY:Manauara vs GAS
DTSTAMP:20260421T050502Z
DTSTART;TZID=America/New_York:20260509T160000
DTEND;TZID=America/New_York:20260509T180000
DESCRIPTION:Dove vedere Manauara vs GAS in Brasile - Serie D. Streaming liv
 e e programmazione TV.\nhttps://streamradar.soccer/it/match/5610724/manauar
 a-vs-gas/
URL;VALUE=URI:https://streamradar.soccer/it/match/5610724/manauara-vs-gas/
STATUS:CONFIRMED
END:VEVENT
END:VCALENDAR
