BEGIN:VCALENDAR
VERSION:2.0
PRODID:-//StreamRadar//Match Calendar//EN
CALSCALE:GREGORIAN
METHOD:PUBLISH
X-WR-CALNAME:Blumenau vs Independente FSJ
X-WR-TIMEZONE:America/New_York
BEGIN:VEVENT
UID:match-5610702@streamradar.soccer
SUMMARY:Blumenau vs Independente FSJ
DTSTAMP:20260421T050536Z
DTSTART;TZID=America/New_York:20260509T160000
DTEND;TZID=America/New_York:20260509T180000
DESCRIPTION:Dove vedere Blumenau vs Independente FSJ in Brasile - Serie D. 
 Streaming live e programmazione TV.\nhttps://streamradar.soccer/it/match/56
 10702/blumenau-vs-independente-fsj/
URL;VALUE=URI:https://streamradar.soccer/it/match/5610702/blumenau-vs-indep
 endente-fsj/
STATUS:CONFIRMED
END:VEVENT
END:VCALENDAR
