BEGIN:VCALENDAR
VERSION:2.0
PRODID:-//StreamRadar//Match Calendar//EN
CALSCALE:GREGORIAN
METHOD:PUBLISH
X-WR-CALNAME:Voždovac vs Loznica
X-WR-TIMEZONE:America/New_York
BEGIN:VEVENT
UID:match-5609532@streamradar.soccer
SUMMARY:Voždovac vs Loznica
DTSTAMP:20260421T102035Z
DTSTART;TZID=America/New_York:20260418T100000
DTEND;TZID=America/New_York:20260418T120000
LOCATION:Stadion Event Place (Beograd)
DESCRIPTION:Dove vedere Voždovac vs Loznica in Serbia - Superliga serba. S
 treaming live e programmazione TV.\nhttps://streamradar.soccer/it/match/560
 9532/vozdovac-vs-loznica/
URL;VALUE=URI:https://streamradar.soccer/it/match/5609532/vozdovac-vs-lozni
 ca/
STATUS:CONFIRMED
END:VEVENT
END:VCALENDAR
