BEGIN:VCALENDAR
VERSION:2.0
PRODID:-//StreamRadar//Match Calendar//EN
CALSCALE:GREGORIAN
METHOD:PUBLISH
X-WR-CALNAME:Al Wihdat vs Al Ahli
X-WR-TIMEZONE:America/New_York
BEGIN:VEVENT
UID:match-5609439@streamradar.soccer
SUMMARY:Al Wihdat vs Al Ahli
DTSTAMP:20260421T084128Z
DTSTART;TZID=America/New_York:20260507T120000
DTEND;TZID=America/New_York:20260507T140000
LOCATION:King Abdullah Stadium
DESCRIPTION:Dove vedere Al Wihdat vs Al Ahli in Jordan League. Streaming li
 ve e programmazione TV.\nhttps://streamradar.soccer/it/match/5609439/al-wih
 dat-vs-al-ahli/
URL;VALUE=URI:https://streamradar.soccer/it/match/5609439/al-wihdat-vs-al-a
 hli/
STATUS:CONFIRMED
END:VEVENT
END:VCALENDAR
