BEGIN:VCALENDAR
VERSION:2.0
PRODID:-//StreamRadar//Match Calendar//EN
CALSCALE:GREGORIAN
METHOD:PUBLISH
X-WR-CALNAME:Hearts vs Rangers
X-WR-TIMEZONE:America/New_York
BEGIN:VEVENT
UID:match-5609400@streamradar.soccer
SUMMARY:Hearts vs Rangers
DTSTAMP:20260421T054726Z
DTSTART;TZID=America/New_York:20260504T123000
DTEND;TZID=America/New_York:20260504T143000
LOCATION:Tynecastle Park
DESCRIPTION:Dove vedere Hearts vs Rangers in Scottish Premiership. Streamin
 g live e programmazione TV.\nhttps://streamradar.soccer/it/match/5609400/he
 arts-vs-rangers/
URL;VALUE=URI:https://streamradar.soccer/it/match/5609400/hearts-vs-rangers
 /
STATUS:CONFIRMED
END:VEVENT
END:VCALENDAR
