BEGIN:VCALENDAR
VERSION:2.0
PRODID:-//StreamRadar//Match Calendar//EN
CALSCALE:GREGORIAN
METHOD:PUBLISH
X-WR-CALNAME:Trem vs Imperatriz
X-WR-TIMEZONE:America/New_York
BEGIN:VEVENT
UID:match-5607993@streamradar.soccer
SUMMARY:Trem vs Imperatriz
DTSTAMP:20260421T114435Z
DTSTART;TZID=America/New_York:20260504T190000
DTEND;TZID=America/New_York:20260504T210000
DESCRIPTION:Dove vedere Trem vs Imperatriz in Brasile - Serie D. Streaming 
 live e programmazione TV.\nhttps://streamradar.soccer/it/match/5607993/trem
 -vs-imperatriz/
URL;VALUE=URI:https://streamradar.soccer/it/match/5607993/trem-vs-imperatri
 z/
STATUS:CONFIRMED
END:VEVENT
END:VCALENDAR
