BEGIN:VCALENDAR
VERSION:2.0
PRODID:-//StreamRadar//Match Calendar//EN
CALSCALE:GREGORIAN
METHOD:PUBLISH
X-WR-CALNAME:Araguaína vs Humaitá
X-WR-TIMEZONE:America/New_York
BEGIN:VEVENT
UID:match-5607438@streamradar.soccer
SUMMARY:Araguaína vs Humaitá
DTSTAMP:20260421T091941Z
DTSTART;TZID=America/New_York:20260503T150000
DTEND;TZID=America/New_York:20260503T170000
DESCRIPTION:Dove vedere Araguaína vs Humaitá in Brasile - Serie D. Stream
 ing live e programmazione TV.\nhttps://streamradar.soccer/it/match/5607438/
 araguaina-vs-humaita/
URL;VALUE=URI:https://streamradar.soccer/it/match/5607438/araguaina-vs-huma
 ita/
STATUS:CONFIRMED
END:VEVENT
END:VCALENDAR
