BEGIN:VCALENDAR
VERSION:2.0
PRODID:-//StreamRadar//Match Calendar//EN
CALSCALE:GREGORIAN
METHOD:PUBLISH
X-WR-CALNAME:Molde vs Hønefoss
X-WR-TIMEZONE:America/New_York
BEGIN:VEVENT
UID:match-5604391@streamradar.soccer
SUMMARY:Molde vs Hønefoss
DTSTAMP:20260421T052153Z
DTSTART;TZID=America/New_York:20260912T090000
DTEND;TZID=America/New_York:20260912T110000
LOCATION:Aker Stadion
DESCRIPTION:Dove vedere Molde vs Hønefoss in Norvegia - Toppserien. Stream
 ing live e programmazione TV.\nhttps://streamradar.soccer/it/match/5604391/
 molde-vs-honefoss/
URL;VALUE=URI:https://streamradar.soccer/it/match/5604391/molde-vs-honefoss
 /
STATUS:CONFIRMED
END:VEVENT
END:VCALENDAR
