BEGIN:VCALENDAR
VERSION:2.0
PRODID:-//StreamRadar//Match Calendar//EN
CALSCALE:GREGORIAN
METHOD:PUBLISH
X-WR-CALNAME:Rostov vs Zvezda Perm
X-WR-TIMEZONE:America/New_York
BEGIN:VEVENT
UID:match-5594667@streamradar.soccer
SUMMARY:Rostov vs Zvezda Perm
DTSTAMP:20260422T053246Z
DTSTART;TZID=America/New_York:20260919T060000
DTEND;TZID=America/New_York:20260919T080000
LOCATION:Stadion Lokomotiv Rostov na Donu
DESCRIPTION:Dove vedere Rostov vs Zvezda Perm in Russia - Campionato Femmin
 ile di Calcio. Streaming live e programmazione TV.\nhttps://streamradar.soc
 cer/it/match/5594667/rostov-vs-zvezda-perm/
URL;VALUE=URI:https://streamradar.soccer/it/match/5594667/rostov-vs-zvezda-
 perm/
STATUS:CONFIRMED
END:VEVENT
END:VCALENDAR
