BEGIN:VCALENDAR
VERSION:2.0
PRODID:-//StreamRadar//Match Calendar//EN
CALSCALE:GREGORIAN
METHOD:PUBLISH
X-WR-CALNAME:Khatlon vs Regar-TadAZ
X-WR-TIMEZONE:America/New_York
BEGIN:VEVENT
UID:match-5593879@streamradar.soccer
SUMMARY:Khatlon vs Regar-TadAZ
DTSTAMP:20260425T150744Z
DTSTART;TZID=America/New_York:20260919T090000
DTEND;TZID=America/New_York:20260919T110000
DESCRIPTION:Dove vedere Khatlon vs Regar-TadAZ in Tajikistan - Tajik League
 . Streaming live e programmazione TV.\nhttps://streamradar.soccer/it/match/
 5593879/khatlon-vs-regar-tadaz/
URL;VALUE=URI:https://streamradar.soccer/it/match/5593879/khatlon-vs-regar-
 tadaz/
STATUS:CONFIRMED
END:VEVENT
END:VCALENDAR
