BEGIN:VCALENDAR
VERSION:2.0
PRODID:-//StreamRadar//Match Calendar//EN
CALSCALE:GREGORIAN
METHOD:PUBLISH
X-WR-CALNAME:Ferizaj vs Kosova Vushtrri
X-WR-TIMEZONE:America/New_York
BEGIN:VEVENT
UID:match-5568981@streamradar.soccer
SUMMARY:Ferizaj vs Kosova Vushtrri
DTSTAMP:20260423T065648Z
DTSTART;TZID=America/New_York:20260304T070000
DTEND;TZID=America/New_York:20260304T090000
LOCATION:Stadiumi me bar sintetik Ferizaj (Ferizaj (Uroševac))
DESCRIPTION:Dove vedere Ferizaj vs Kosova Vushtrri in Coppa del Kosovo. Str
 eaming live e programmazione TV.\nhttps://streamradar.soccer/it/match/55689
 81/ferizaj-vs-kosova-vushtrri/
URL;VALUE=URI:https://streamradar.soccer/it/match/5568981/ferizaj-vs-kosova
 -vushtrri/
STATUS:CONFIRMED
END:VEVENT
END:VCALENDAR
