BEGIN:VCALENDAR
VERSION:2.0
PRODID:-//StreamRadar//Match Calendar//EN
CALSCALE:GREGORIAN
METHOD:PUBLISH
X-WR-CALNAME:Boljan vs Hestrafors
X-WR-TIMEZONE:America/New_York
BEGIN:VEVENT
UID:match-5567074@streamradar.soccer
SUMMARY:Boljan vs Hestrafors
DTSTAMP:20260422T193826Z
DTSTART;TZID=America/New_York:20260911T133000
DTEND;TZID=America/New_York:20260911T153000
DESCRIPTION:Dove vedere Boljan vs Hestrafors in Svezia - Superettan. Stream
 ing live e programmazione TV.\nhttps://streamradar.soccer/it/match/5567074/
 boljan-vs-hestrafors/
URL;VALUE=URI:https://streamradar.soccer/it/match/5567074/boljan-vs-hestraf
 ors/
STATUS:CONFIRMED
END:VEVENT
END:VCALENDAR
