BEGIN:VCALENDAR
VERSION:2.0
PRODID:-//StreamRadar//Match Calendar//EN
CALSCALE:GREGORIAN
METHOD:PUBLISH
X-WR-CALNAME:Lilla Torg vs Linero IF
X-WR-TIMEZONE:America/New_York
BEGIN:VEVENT
UID:match-5566716@streamradar.soccer
SUMMARY:Lilla Torg vs Linero IF
DTSTAMP:20260422T193825Z
DTSTART;TZID=America/New_York:20260918T130000
DTEND;TZID=America/New_York:20260918T150000
DESCRIPTION:Dove vedere Lilla Torg vs Linero IF in Svezia - Superettan. Str
 eaming live e programmazione TV.\nhttps://streamradar.soccer/it/match/55667
 16/lilla-torg-vs-linero-if/
URL;VALUE=URI:https://streamradar.soccer/it/match/5566716/lilla-torg-vs-lin
 ero-if/
STATUS:CONFIRMED
END:VEVENT
END:VCALENDAR
