BEGIN:VCALENDAR
VERSION:2.0
PRODID:-//StreamRadar//Match Calendar//EN
CALSCALE:GREGORIAN
METHOD:PUBLISH
X-WR-CALNAME:Bollstanäs vs Skiljebo
X-WR-TIMEZONE:America/New_York
BEGIN:VEVENT
UID:match-5566536@streamradar.soccer
SUMMARY:Bollstanäs vs Skiljebo
DTSTAMP:20260422T043308Z
DTSTART;TZID=America/New_York:20260919T080000
DTEND;TZID=America/New_York:20260919T100000
DESCRIPTION:Dove vedere Bollstanäs vs Skiljebo in Svezia - Superettan. Str
 eaming live e programmazione TV.\nhttps://streamradar.soccer/it/match/55665
 36/bollstanas-vs-skiljebo/
URL;VALUE=URI:https://streamradar.soccer/it/match/5566536/bollstanas-vs-ski
 ljebo/
STATUS:CONFIRMED
END:VEVENT
END:VCALENDAR
