BEGIN:VCALENDAR
VERSION:2.0
PRODID:-//StreamRadar//Match Calendar//EN
CALSCALE:GREGORIAN
METHOD:PUBLISH
X-WR-CALNAME:Vänersborgs FK vs Ahlafors
X-WR-TIMEZONE:America/New_York
BEGIN:VEVENT
UID:match-5566339@streamradar.soccer
SUMMARY:Vänersborgs FK vs Ahlafors
DTSTAMP:20260421T165401Z
DTSTART;TZID=America/New_York:20260904T131500
DTEND;TZID=America/New_York:20260904T151500
DESCRIPTION:Dove vedere Vänersborgs FK vs Ahlafors in Svezia - Superettan.
  Streaming live e programmazione TV.\nhttps://streamradar.soccer/it/match/5
 566339/vanersborgs-fk-vs-ahlafors/
URL;VALUE=URI:https://streamradar.soccer/it/match/5566339/vanersborgs-fk-vs
 -ahlafors/
STATUS:CONFIRMED
END:VEVENT
END:VCALENDAR
