BEGIN:VCALENDAR
VERSION:2.0
PRODID:-//StreamRadar//Match Calendar//EN
CALSCALE:GREGORIAN
METHOD:PUBLISH
X-WR-CALNAME:North Texas vs Houston Dynamo FC II
X-WR-TIMEZONE:America/New_York
BEGIN:VEVENT
UID:match-5565972@streamradar.soccer
SUMMARY:North Texas vs Houston Dynamo FC II
DTSTAMP:20260422T113558Z
DTSTART;TZID=America/New_York:20260913T203000
DTEND;TZID=America/New_York:20260913T223000
LOCATION:Choctaw Stadium
DESCRIPTION:Dove vedere North Texas vs Houston Dynamo FC II in MLS Next Pro
 . Streaming live e programmazione TV.\nhttps://streamradar.soccer/it/match/
 5565972/north-texas-vs-houston-dynamo-fc-ii/
URL;VALUE=URI:https://streamradar.soccer/it/match/5565972/north-texas-vs-ho
 uston-dynamo-fc-ii/
STATUS:CONFIRMED
END:VEVENT
END:VCALENDAR
