BEGIN:VCALENDAR
VERSION:2.0
PRODID:-//StreamRadar//Match Calendar//EN
CALSCALE:GREGORIAN
METHOD:PUBLISH
X-WR-CALNAME:Gangneung City vs Gyeongju HNP
X-WR-TIMEZONE:America/New_York
BEGIN:VEVENT
UID:match-5565498@streamradar.soccer
SUMMARY:Gangneung City vs Gyeongju HNP
DTSTAMP:20260422T041241Z
DTSTART;TZID=America/New_York:20260912T060000
DTEND;TZID=America/New_York:20260912T080000
DESCRIPTION:Dove vedere Gangneung City vs Gyeongju HNP in Corea del Sud - K
 3 League. Streaming live e programmazione TV.\nhttps://streamradar.soccer/i
 t/match/5565498/gangneung-city-vs-gyeongju-hnp/
URL;VALUE=URI:https://streamradar.soccer/it/match/5565498/gangneung-city-vs
 -gyeongju-hnp/
STATUS:CONFIRMED
END:VEVENT
END:VCALENDAR
