BEGIN:VCALENDAR
VERSION:2.0
PRODID:-//StreamRadar//Match Calendar//EN
CALSCALE:GREGORIAN
METHOD:PUBLISH
X-WR-CALNAME:Busan Transportation vs Yangpyeong
X-WR-TIMEZONE:America/New_York
BEGIN:VEVENT
UID:match-5565382@streamradar.soccer
SUMMARY:Busan Transportation vs Yangpyeong
DTSTAMP:20260421T235715Z
DTSTART;TZID=America/New_York:20260405T010000
DTEND;TZID=America/New_York:20260405T030000
LOCATION:Busan Gudeok Stadium
DESCRIPTION:Dove vedere Busan Transportation vs Yangpyeong in Corea del Sud
  - K3 League. Streaming live e programmazione TV.\nhttps://streamradar.socc
 er/it/match/5565382/busan-transportation-vs-yangpyeong/
URL;VALUE=URI:https://streamradar.soccer/it/match/5565382/busan-transportat
 ion-vs-yangpyeong/
STATUS:CONFIRMED
END:VEVENT
END:VCALENDAR
