BEGIN:VCALENDAR
VERSION:2.0
PRODID:-//StreamRadar//Match Calendar//EN
CALSCALE:GREGORIAN
METHOD:PUBLISH
X-WR-CALNAME:Seoul E-Land vs Daegu
X-WR-TIMEZONE:America/New_York
BEGIN:VEVENT
UID:match-5563241@streamradar.soccer
SUMMARY:Seoul E-Land vs Daegu
DTSTAMP:20260422T043231Z
DTSTART;TZID=America/New_York:20260919T060000
DTEND;TZID=America/New_York:20260919T080000
LOCATION:Mokdong Stadium
DESCRIPTION:Dove vedere Seoul E-Land vs Daegu in Corea del Sud - K League 2
 . Streaming live e programmazione TV.\nhttps://streamradar.soccer/it/match/
 5563241/seoul-e-land-vs-daegu/
URL;VALUE=URI:https://streamradar.soccer/it/match/5563241/seoul-e-land-vs-d
 aegu/
STATUS:CONFIRMED
END:VEVENT
END:VCALENDAR
