BEGIN:VCALENDAR
VERSION:2.0
PRODID:-//StreamRadar//Match Calendar//EN
CALSCALE:GREGORIAN
METHOD:PUBLISH
X-WR-CALNAME:Buxoro vs Navbahor
X-WR-TIMEZONE:America/New_York
BEGIN:VEVENT
UID:match-5561469@streamradar.soccer
SUMMARY:Buxoro vs Navbahor
DTSTAMP:20260422T015527Z
DTSTART;TZID=America/New_York:20260909T110000
DTEND;TZID=America/New_York:20260909T130000
DESCRIPTION:Dove vedere Buxoro vs Navbahor in Uzbekistan Super League. Stre
 aming live e programmazione TV.\nhttps://streamradar.soccer/it/match/556146
 9/buxoro-vs-navbahor/
URL;VALUE=URI:https://streamradar.soccer/it/match/5561469/buxoro-vs-navbaho
 r/
STATUS:CONFIRMED
END:VEVENT
END:VCALENDAR
