BEGIN:VCALENDAR
VERSION:2.0
PRODID:-//StreamRadar//Match Calendar//EN
CALSCALE:GREGORIAN
METHOD:PUBLISH
X-WR-CALNAME:Kokand-1912 vs Dinamo Samarqand
X-WR-TIMEZONE:America/New_York
BEGIN:VEVENT
UID:match-5561461@streamradar.soccer
SUMMARY:Kokand-1912 vs Dinamo Samarqand
DTSTAMP:20260421T211048Z
DTSTART;TZID=America/New_York:20260903T110000
DTEND;TZID=America/New_York:20260903T130000
DESCRIPTION:Dove vedere Kokand-1912 vs Dinamo Samarqand in Uzbekistan Super
  League. Streaming live e programmazione TV.\nhttps://streamradar.soccer/it
 /match/5561461/kokand-1912-vs-dinamo-samarqand/
URL;VALUE=URI:https://streamradar.soccer/it/match/5561461/kokand-1912-vs-di
 namo-samarqand/
STATUS:CONFIRMED
END:VEVENT
END:VCALENDAR
