BEGIN:VCALENDAR
VERSION:2.0
PRODID:-//StreamRadar//Match Calendar//EN
CALSCALE:GREGORIAN
METHOD:PUBLISH
X-WR-CALNAME:Shanghai Shenhua vs Beijing Guoan
X-WR-TIMEZONE:America/New_York
BEGIN:VEVENT
UID:match-5560332@streamradar.soccer
SUMMARY:Shanghai Shenhua vs Beijing Guoan
DTSTAMP:20260421T110428Z
DTSTART;TZID=America/New_York:20260711T073500
DTEND;TZID=America/New_York:20260711T093500
LOCATION:Shanghai Stadium
DESCRIPTION:Dove vedere Shanghai Shenhua vs Beijing Guoan in Cina - Chinese
  Super League. Streaming live e programmazione TV.\nhttps://streamradar.soc
 cer/it/match/5560332/shanghai-shenhua-vs-beijing-guoan/
URL;VALUE=URI:https://streamradar.soccer/it/match/5560332/shanghai-shenhua-
 vs-beijing-guoan/
STATUS:CONFIRMED
END:VEVENT
END:VCALENDAR
