BEGIN:VCALENDAR
VERSION:2.0
PRODID:-//StreamRadar//Match Calendar//EN
CALSCALE:GREGORIAN
METHOD:PUBLISH
X-WR-CALNAME:Qingdao West Coast vs Shanghai Shenhua
X-WR-TIMEZONE:America/New_York
BEGIN:VEVENT
UID:match-5560308@streamradar.soccer
SUMMARY:Qingdao West Coast vs Shanghai Shenhua
DTSTAMP:20260421T110336Z
DTSTART;TZID=America/New_York:20260530T060000
DTEND;TZID=America/New_York:20260530T080000
LOCATION:Qingdao Guzhenkou University City Sports Center
DESCRIPTION:Dove vedere Qingdao West Coast vs Shanghai Shenhua in Cina - Ch
 inese Super League. Streaming live e programmazione TV.\nhttps://streamrada
 r.soccer/it/match/5560308/qingdao-west-coast-vs-shanghai-shenhua/
URL;VALUE=URI:https://streamradar.soccer/it/match/5560308/qingdao-west-coas
 t-vs-shanghai-shenhua/
STATUS:CONFIRMED
END:VEVENT
END:VCALENDAR
