BEGIN:VCALENDAR
VERSION:2.0
PRODID:-//StreamRadar//Match Calendar//EN
CALSCALE:GREGORIAN
METHOD:PUBLISH
X-WR-CALNAME:Yunnan Yukun vs Qingdao West Coast
X-WR-TIMEZONE:America/New_York
BEGIN:VEVENT
UID:match-5560301@streamradar.soccer
SUMMARY:Yunnan Yukun vs Qingdao West Coast
DTSTAMP:20260421T112409Z
DTSTART;TZID=America/New_York:20260524T070000
DTEND;TZID=America/New_York:20260524T090000
LOCATION:Yuxi Plateau Sports Center Stadium
DESCRIPTION:Dove vedere Yunnan Yukun vs Qingdao West Coast in Cina - Chines
 e Super League. Streaming live e programmazione TV.\nhttps://streamradar.so
 ccer/it/match/5560301/yunnan-yukun-vs-qingdao-west-coast/
URL;VALUE=URI:https://streamradar.soccer/it/match/5560301/yunnan-yukun-vs-q
 ingdao-west-coast/
STATUS:CONFIRMED
END:VEVENT
END:VCALENDAR
