BEGIN:VCALENDAR
VERSION:2.0
PRODID:-//StreamRadar//Match Calendar//EN
CALSCALE:GREGORIAN
METHOD:PUBLISH
X-WR-CALNAME:Nueva Chicago vs All Boys
X-WR-TIMEZONE:America/New_York
BEGIN:VEVENT
UID:match-5559690@streamradar.soccer
SUMMARY:Nueva Chicago vs All Boys
DTSTAMP:20260422T064954Z
DTSTART;TZID=America/New_York:20260329T143000
DTEND;TZID=America/New_York:20260329T163000
LOCATION:Estadio Nueva Chicago
DESCRIPTION:Dove vedere Nueva Chicago vs All Boys in Argentina - Primera Na
 cional. Streaming live e programmazione TV.\nhttps://streamradar.soccer/it/
 match/5559690/nueva-chicago-vs-all-boys/
URL;VALUE=URI:https://streamradar.soccer/it/match/5559690/nueva-chicago-vs-
 all-boys/
STATUS:CONFIRMED
END:VEVENT
END:VCALENDAR
