BEGIN:VCALENDAR
VERSION:2.0
PRODID:-//StreamRadar//Match Calendar//EN
CALSCALE:GREGORIAN
METHOD:PUBLISH
X-WR-CALNAME:São Bernardo vs Atlético Goianiense
X-WR-TIMEZONE:America/New_York
BEGIN:VEVENT
UID:match-5559569@streamradar.soccer
SUMMARY:São Bernardo vs Atlético Goianiense
DTSTAMP:20260422T052757Z
DTSTART;TZID=America/New_York:20260919T150000
DTEND;TZID=America/New_York:20260919T170000
LOCATION:Estadio Primeiro de Maio
DESCRIPTION:Dove vedere São Bernardo vs Atlético Goianiense in Brasile - 
 Serie B. Streaming live e programmazione TV.\nhttps://streamradar.soccer/it
 /match/5559569/sao-bernardo-vs-atletico-goianiense/
URL;VALUE=URI:https://streamradar.soccer/it/match/5559569/sao-bernardo-vs-a
 tletico-goianiense/
STATUS:CONFIRMED
END:VEVENT
END:VCALENDAR
