BEGIN:VCALENDAR
VERSION:2.0
PRODID:-//StreamRadar//Match Calendar//EN
CALSCALE:GREGORIAN
METHOD:PUBLISH
X-WR-CALNAME:América Mineiro vs Atlético Goianiense
X-WR-TIMEZONE:America/New_York
BEGIN:VEVENT
UID:match-5559392@streamradar.soccer
SUMMARY:América Mineiro vs Atlético Goianiense
DTSTAMP:20260421T195827Z
DTSTART;TZID=America/New_York:20260609T150000
DTEND;TZID=America/New_York:20260609T170000
DESCRIPTION:Dove vedere América Mineiro vs Atlético Goianiense in Brasile
  - Serie B. Streaming live e programmazione TV.\nhttps://streamradar.soccer
 /it/match/5559392/america-mineiro-vs-atletico-goianiense/
URL;VALUE=URI:https://streamradar.soccer/it/match/5559392/america-mineiro-v
 s-atletico-goianiense/
STATUS:CONFIRMED
END:VEVENT
END:VCALENDAR
