BEGIN:VCALENDAR
VERSION:2.0
PRODID:-//StreamRadar//Match Calendar//EN
CALSCALE:GREGORIAN
METHOD:PUBLISH
X-WR-CALNAME:Londrina vs Goiás
X-WR-TIMEZONE:America/New_York
BEGIN:VEVENT
UID:match-5559298@streamradar.soccer
SUMMARY:Londrina vs Goiás
DTSTAMP:20260422T051152Z
DTSTART;TZID=America/New_York:20260401T180000
DTEND;TZID=America/New_York:20260401T200000
LOCATION:Estádio Municipal Jacy Scaff (Londrina\, Paraná)
DESCRIPTION:Dove vedere Londrina vs Goiás in Brasile - Serie B. Streaming 
 live e programmazione TV.\nhttps://streamradar.soccer/it/match/5559298/lond
 rina-vs-goias/
URL;VALUE=URI:https://streamradar.soccer/it/match/5559298/londrina-vs-goias
 /
STATUS:CONFIRMED
END:VEVENT
END:VCALENDAR
