BEGIN:VCALENDAR
VERSION:2.0
PRODID:-//StreamRadar//Match Calendar//EN
CALSCALE:GREGORIAN
METHOD:PUBLISH
X-WR-CALNAME:Barcelona vs Independiente del Valle
X-WR-TIMEZONE:America/New_York
BEGIN:VEVENT
UID:match-5559165@streamradar.soccer
SUMMARY:Barcelona vs Independiente del Valle
DTSTAMP:20260421T135919Z
DTSTART;TZID=America/New_York:20260902T160000
DTEND;TZID=America/New_York:20260902T180000
LOCATION:Estadio Monumental Banco Pichincha
DESCRIPTION:Dove vedere Barcelona vs Independiente Del Valle in Ecuador - S
 erie A ecuadoriana. Streaming live e programmazione TV.\nhttps://streamrada
 r.soccer/it/match/5559165/barcelona-vs-independiente-del-valle/
URL;VALUE=URI:https://streamradar.soccer/it/match/5559165/barcelona-vs-inde
 pendiente-del-valle/
STATUS:CONFIRMED
END:VEVENT
END:VCALENDAR
