BEGIN:VCALENDAR
VERSION:2.0
PRODID:-//StreamRadar//Match Calendar//EN
CALSCALE:GREGORIAN
METHOD:PUBLISH
X-WR-CALNAME:Zarzis vs Kairouan
X-WR-TIMEZONE:America/New_York
BEGIN:VEVENT
UID:match-5558120@streamradar.soccer
SUMMARY:Zarzis vs Kairouan
DTSTAMP:20260423T123831Z
DTSTART;TZID=America/New_York:20260227T070000
DTEND;TZID=America/New_York:20260227T090000
LOCATION:Abdessalem Kazouz Stadium
DESCRIPTION:Dove vedere Zarzis vs Kairouan in Tunisia - Ligue Professionnel
 le 1. Streaming live e programmazione TV.\nhttps://streamradar.soccer/it/ma
 tch/5558120/zarzis-vs-kairouan/
URL;VALUE=URI:https://streamradar.soccer/it/match/5558120/zarzis-vs-kairoua
 n/
STATUS:CONFIRMED
END:VEVENT
END:VCALENDAR
