BEGIN:VCALENDAR
VERSION:2.0
PRODID:-//StreamRadar//Match Calendar//EN
CALSCALE:GREGORIAN
METHOD:PUBLISH
X-WR-CALNAME:Uzbekistan vs China
X-WR-TIMEZONE:America/New_York
BEGIN:VEVENT
UID:match-5557920@streamradar.soccer
SUMMARY:Uzbekistan vs China
DTSTAMP:20260423T052646Z
DTSTART;TZID=America/New_York:20260306T030000
DTEND;TZID=America/New_York:20260306T050000
LOCATION:CommBank Stadium
DESCRIPTION:Dove vedere Uzbekistan vs Cina in Coppa d'Asia femminile AFC. S
 treaming live e programmazione TV.\nhttps://streamradar.soccer/it/match/555
 7920/uzbekistan-vs-china/
URL;VALUE=URI:https://streamradar.soccer/it/match/5557920/uzbekistan-vs-chi
 na/
STATUS:CONFIRMED
END:VEVENT
END:VCALENDAR
