BEGIN:VCALENDAR
VERSION:2.0
PRODID:-//StreamRadar//Match Calendar//EN
CALSCALE:GREGORIAN
METHOD:PUBLISH
X-WR-CALNAME:Bremer SV vs Union Bremen
X-WR-TIMEZONE:America/New_York
BEGIN:VEVENT
UID:match-5551784@streamradar.soccer
SUMMARY:Bremer SV vs Union Bremen
DTSTAMP:20260423T230752Z
DTSTART;TZID=America/New_York:20260212T120000
DTEND;TZID=America/New_York:20260212T140000
LOCATION:Stadion am Panzenberg (Bremen)
DESCRIPTION:Dove vedere Bremer SV vs Union Bremen in Amichevole Club. Strea
 ming live e programmazione TV.\nhttps://streamradar.soccer/it/match/5551784
 /bremer-sv-vs-union-bremen/
URL;VALUE=URI:https://streamradar.soccer/it/match/5551784/bremer-sv-vs-unio
 n-bremen/
STATUS:CONFIRMED
END:VEVENT
END:VCALENDAR
