BEGIN:VCALENDAR
VERSION:2.0
PRODID:-//StreamRadar//Match Calendar//EN
CALSCALE:GREGORIAN
METHOD:PUBLISH
X-WR-CALNAME:JäPS vs Ekenäs IF
X-WR-TIMEZONE:America/New_York
BEGIN:VEVENT
UID:match-5535692@streamradar.soccer
SUMMARY:JäPS vs Ekenäs IF
DTSTAMP:20260425T162318Z
DTSTART;TZID=America/New_York:20260918T113000
DTEND;TZID=America/New_York:20260918T133000
DESCRIPTION:Dove vedere JäPS vs Ekenäs IF in Finlandia - Ykkösliiga. Str
 eaming live e programmazione TV.\nhttps://streamradar.soccer/it/match/55356
 92/japs-vs-ekenas-if/
URL;VALUE=URI:https://streamradar.soccer/it/match/5535692/japs-vs-ekenas-if
 /
STATUS:CONFIRMED
END:VEVENT
END:VCALENDAR
