BEGIN:VCALENDAR
VERSION:2.0
PRODID:-//StreamRadar//Match Calendar//EN
CALSCALE:GREGORIAN
METHOD:PUBLISH
X-WR-CALNAME:Klubi-04 vs KäPa
X-WR-TIMEZONE:America/New_York
BEGIN:VEVENT
UID:match-5535685@streamradar.soccer
SUMMARY:Klubi-04 vs KäPa
DTSTAMP:20260425T115702Z
DTSTART;TZID=America/New_York:20260907T120000
DTEND;TZID=America/New_York:20260907T140000
LOCATION:Bolt Arena
DESCRIPTION:Dove vedere Klubi-04 vs KäPa in Finlandia - Ykkösliiga. Strea
 ming live e programmazione TV.\nhttps://streamradar.soccer/it/match/5535685
 /klubi-04-vs-kapa/
URL;VALUE=URI:https://streamradar.soccer/it/match/5535685/klubi-04-vs-kapa/
STATUS:CONFIRMED
END:VEVENT
END:VCALENDAR
