BEGIN:VCALENDAR
VERSION:2.0
PRODID:-//StreamRadar//Match Calendar//EN
CALSCALE:GREGORIAN
METHOD:PUBLISH
X-WR-CALNAME:Assyriska vs Stocksund
X-WR-TIMEZONE:America/New_York
BEGIN:VEVENT
UID:match-5534494@streamradar.soccer
SUMMARY:Assyriska vs Stocksund
DTSTAMP:20260421T112235Z
DTSTART;TZID=America/New_York:20260904T133000
DTEND;TZID=America/New_York:20260904T153000
LOCATION:Sodertalje Fotbollsarena
DESCRIPTION:Dove vedere Assyriska vs Stocksund in Svezia - Ettan. Streaming
  live e programmazione TV.\nhttps://streamradar.soccer/it/match/5534494/ass
 yriska-vs-stocksund/
URL;VALUE=URI:https://streamradar.soccer/it/match/5534494/assyriska-vs-stoc
 ksund/
STATUS:CONFIRMED
END:VEVENT
END:VCALENDAR
