BEGIN:VCALENDAR
VERSION:2.0
PRODID:-//StreamRadar//Match Calendar//EN
CALSCALE:GREGORIAN
METHOD:PUBLISH
X-WR-CALNAME:Defensores de Cambaceres vs JJ Urquiza
X-WR-TIMEZONE:America/New_York
BEGIN:VEVENT
UID:match-5534240@streamradar.soccer
SUMMARY:Defensores de Cambaceres vs JJ Urquiza
DTSTAMP:20260422T045711Z
DTSTART;TZID=America/New_York:20260919T160000
DTEND;TZID=America/New_York:20260919T180000
DESCRIPTION:Dove vedere Defensores De Cambaceres vs JJ Urquiza in Argentina
  - Primera C Metropolitana. Streaming live e programmazione TV.\nhttps://st
 reamradar.soccer/it/match/5534240/defensores-de-cambaceres-vs-jj-urquiza/
URL;VALUE=URI:https://streamradar.soccer/it/match/5534240/defensores-de-cam
 baceres-vs-jj-urquiza/
STATUS:CONFIRMED
END:VEVENT
END:VCALENDAR
