BEGIN:VCALENDAR
VERSION:2.0
PRODID:-//StreamRadar//Match Calendar//EN
CALSCALE:GREGORIAN
METHOD:PUBLISH
X-WR-CALNAME:Leandro Nicéforo Alem vs Juventud Unida
X-WR-TIMEZONE:America/New_York
BEGIN:VEVENT
UID:match-5534148@streamradar.soccer
SUMMARY:Leandro Nicéforo Alem vs Juventud Unida
DTSTAMP:20260422T000446Z
DTSTART;TZID=America/New_York:20260801T160000
DTEND;TZID=America/New_York:20260801T180000
DESCRIPTION:Dove vedere Leandro Nicéforo Alem vs Juventud Unida in Argenti
 na - Primera C Metropolitana. Streaming live e programmazione TV.\nhttps://
 streamradar.soccer/it/match/5534148/leandro-niceforo-alem-vs-juventud-unida
 /
URL;VALUE=URI:https://streamradar.soccer/it/match/5534148/leandro-niceforo-
 alem-vs-juventud-unida/
STATUS:CONFIRMED
END:VEVENT
END:VCALENDAR
