BEGIN:VCALENDAR
VERSION:2.0
PRODID:-//StreamRadar//Match Calendar//EN
CALSCALE:GREGORIAN
METHOD:PUBLISH
X-WR-CALNAME:Defensores de Cambaceres vs Lugano
X-WR-TIMEZONE:America/New_York
BEGIN:VEVENT
UID:match-5534142@streamradar.soccer
SUMMARY:Defensores de Cambaceres vs Lugano
DTSTAMP:20260422T015640Z
DTSTART;TZID=America/New_York:20260801T160000
DTEND;TZID=America/New_York:20260801T180000
DESCRIPTION:Dove vedere Defensores De Cambaceres vs Lugano in Argentina - P
 rimera C Metropolitana. Streaming live e programmazione TV.\nhttps://stream
 radar.soccer/it/match/5534142/defensores-de-cambaceres-vs-lugano/
URL;VALUE=URI:https://streamradar.soccer/it/match/5534142/defensores-de-cam
 baceres-vs-lugano/
STATUS:CONFIRMED
END:VEVENT
END:VCALENDAR
