BEGIN:VCALENDAR
VERSION:2.0
PRODID:-//StreamRadar//Match Calendar//EN
CALSCALE:GREGORIAN
METHOD:PUBLISH
X-WR-CALNAME:Jeonbuk Motors vs Gwangju
X-WR-TIMEZONE:America/New_York
BEGIN:VEVENT
UID:match-5533822@streamradar.soccer
SUMMARY:Jeonbuk Motors vs Gwangju
DTSTAMP:20260423T083952Z
DTSTART;TZID=America/New_York:20260920T033000
DTEND;TZID=America/New_York:20260920T053000
LOCATION:Jeonju World Cup Stadium
DESCRIPTION:Dove vedere Jeonbuk Motors vs Gwangju in Corea del Sud - K Leag
 ue 1. Streaming live e programmazione TV.\nhttps://streamradar.soccer/it/ma
 tch/5533822/jeonbuk-motors-vs-gwangju/
URL;VALUE=URI:https://streamradar.soccer/it/match/5533822/jeonbuk-motors-vs
 -gwangju/
STATUS:CONFIRMED
END:VEVENT
END:VCALENDAR
