BEGIN:VCALENDAR
VERSION:2.0
PRODID:-//StreamRadar//Match Calendar//EN
CALSCALE:GREGORIAN
METHOD:PUBLISH
X-WR-CALNAME:Gangwon vs Jeonbuk Motors
X-WR-TIMEZONE:America/New_York
BEGIN:VEVENT
UID:match-5533810@streamradar.soccer
SUMMARY:Gangwon vs Jeonbuk Motors
DTSTAMP:20260422T000439Z
DTSTART;TZID=America/New_York:20260909T063000
DTEND;TZID=America/New_York:20260909T083000
LOCATION:Chuncheon Songam Stadium
DESCRIPTION:Dove vedere Gangwon vs Jeonbuk Motors in Corea del Sud - K Leag
 ue 1. Streaming live e programmazione TV.\nhttps://streamradar.soccer/it/ma
 tch/5533810/gangwon-vs-jeonbuk-motors/
URL;VALUE=URI:https://streamradar.soccer/it/match/5533810/gangwon-vs-jeonbu
 k-motors/
STATUS:CONFIRMED
END:VEVENT
END:VCALENDAR
