BEGIN:VCALENDAR
VERSION:2.0
PRODID:-//StreamRadar//Match Calendar//EN
CALSCALE:GREGORIAN
METHOD:PUBLISH
X-WR-CALNAME:Helsingborg vs Sandviken
X-WR-TIMEZONE:America/New_York
BEGIN:VEVENT
UID:match-5531884@streamradar.soccer
SUMMARY:Helsingborg vs Sandviken
DTSTAMP:20260422T013111Z
DTSTART;TZID=America/New_York:20260906T090000
DTEND;TZID=America/New_York:20260906T110000
LOCATION:Olympia
DESCRIPTION:Dove vedere Helsingborg vs Sandviken in Svezia - Superettan. St
 reaming live e programmazione TV.\nhttps://streamradar.soccer/it/match/5531
 884/helsingborg-vs-sandviken/
URL;VALUE=URI:https://streamradar.soccer/it/match/5531884/helsingborg-vs-sa
 ndviken/
STATUS:CONFIRMED
END:VEVENT
END:VCALENDAR
