BEGIN:VCALENDAR
VERSION:2.0
PRODID:-//StreamRadar//Match Calendar//EN
CALSCALE:GREGORIAN
METHOD:PUBLISH
X-WR-CALNAME:Follo vs Eidsvold
X-WR-TIMEZONE:America/New_York
BEGIN:VEVENT
UID:match-5508970@streamradar.soccer
SUMMARY:Follo vs Eidsvold
DTSTAMP:20260422T110652Z
DTSTART;TZID=America/New_York:20260919T080000
DTEND;TZID=America/New_York:20260919T100000
LOCATION:Langhus kunstgress
DESCRIPTION:Dove vedere Follo vs Eidsvold in Norvegia - Seconda Divisione. 
 Streaming live e programmazione TV.\nhttps://streamradar.soccer/it/match/55
 08970/follo-vs-eidsvold/
URL;VALUE=URI:https://streamradar.soccer/it/match/5508970/follo-vs-eidsvold
 /
STATUS:CONFIRMED
END:VEVENT
END:VCALENDAR
