BEGIN:VCALENDAR
VERSION:2.0
PRODID:-//StreamRadar//Match Calendar//EN
CALSCALE:GREGORIAN
METHOD:PUBLISH
X-WR-CALNAME:Eidsvold vs Ullensaker / Kisa
X-WR-TIMEZONE:America/New_York
BEGIN:VEVENT
UID:match-5508963@streamradar.soccer
SUMMARY:Eidsvold vs Ullensaker / Kisa
DTSTAMP:20260421T104103Z
DTSTART;TZID=America/New_York:20260912T080000
DTEND;TZID=America/New_York:20260912T100000
LOCATION:Myhrer Stadion
DESCRIPTION:Dove vedere Eidsvold vs Ullensaker / Kisa in Norvegia - Seconda
  Divisione. Streaming live e programmazione TV.\nhttps://streamradar.soccer
 /it/match/5508963/eidsvold-vs-ullensaker-kisa/
URL;VALUE=URI:https://streamradar.soccer/it/match/5508963/eidsvold-vs-ullen
 saker-kisa/
STATUS:CONFIRMED
END:VEVENT
END:VCALENDAR
